BEGIN:VCALENDAR
VERSION:2.0
PRODID:-//hacksw/handcal//NONSGML v1.0//EN
BEGIN:VEVENT
SUMMARY:INTER-DISTRICT BADMINTON dans le Fauciny
UID:11a6b156-68a8-4275-8c5b-4b41a821917d
DTSTART:20260505T220000Z
DTEND:20260506T220000Z
LOCATION:Localisation   
CATEGORIES:Sportif
STATUS:
DESCRIPTION:<p>INTER-DISTRICT de BADMINTON sur
 qualification </p>
 
 <p>Match ronde a l'italienne S1,S2,
 DOUBLE</p>
 
 <p>Apporter un pique-nique , gourde et verre
 ECOCUP.</p>
 
 <p>Tenue de sport : tee-shirt AS et short au dessus du
 genou</p>
 
 <p>Les horaires et les lieux de competition ne sont pas
 encore definis </p>
 
 <p> </p>
URL;VALUE=URI:https://www.ascollegevarens.fr/evenements/2026/05/06/inter-district-badminton-dans-le-fauciny-2444633
END:VEVENT
END:VCALENDAR
