BEGIN:VCALENDAR
VERSION:2.0
PRODID:-//hacksw/handcal//NONSGML v1.0//EN
BEGIN:VEVENT
SUMMARY:GYMNASTIQUE criterium departemental - St PIERRE EN FAUCIGNY
UID:00eac2f8-b60b-47cf-abb5-a8623bbe181d
DTSTART:20260506T061500Z
DTEND:20260506T151500Z
LOCATION:Localisation COLLEGE KARINE RUBY  SAINT PIERRE EN FAUCIGNY
CATEGORIES:Sportif
STATUS:
DESCRIPTION:<p align="center" style="text-align:center;"><span
 style="font-size:12pt;"><span style="font-family:'Comic Sans
 MS';"><b><span style="font-size:24pt;"><span
 style="color:#ff0066;">GYMNASTIQUE</span></span></b></span></span></p>
 
 <p
 align="center" style="text-align:center;"><span
 style="font-size:12pt;"><span style="font-family:'Comic Sans
 MS';"><b><span style="font-size:24pt;"><span
 style="color:#ff0066;">EQUIPE CRITERIUM Departemental
 </span></span></b></span></span></p>
 
 <p align="center"
 style="text-align:center;"><span style="font-size:12pt;"><span
 style="font-family:'Comic Sans MS';"><b><span
 style="font-size:18pt;"><span style="color:#ff0066;">Mercredi 06 mai
 2026 –</span></span></b><b><span style="font-size:20pt;"><span
 style="color:#ff0066;"> St PIERRE en
 FAUCIGNY</span></span></b></span></span></p>
 
 <p align="center"
 style="text-align:center;"> </p>
 
 <p
 style="text-align:justify;"><span
 style="font-size:12pt;"><span><span><span style="font-family:'Comic
 Sans MS';"><b><u><span style="font-size:20pt;"><span><span
 style="color:#000000;">DEPLACEMENT EN
 BUS</span></span></span></u></b></span></span></span></span></p>
 
 <p
 style="text-align:justify;"> </p>
 
 <ul>
 	<li
 style="text-align:justify;"><span style="font-size:12pt;"><span
 style="color:#ff0066;"><span><span><span style="font-family:'Comic
 Sans MS';"><b><span style="font-size:16pt;"><span>8h20 -
 DEPART</span></span></b><span style="font-size:16pt;"><span>
 rond-point du parking
 profs</span></span></span></span></span></span></span></li>
 	<li
 style="text-align:justify;"><span
 style="font-size:12pt;"><span><span><span style="font-family:'Comic
 Sans MS';"><b><span
 style="font-size:16pt;"><span>9h00</span></span></b><span
 style="font-size:16pt;"><span> – Accueil des equipes
 </span></span></span></span></span></span></li>
 	<li
 style="text-align:justify;"><span
 style="font-size:12pt;"><span><span><span style="font-family:'Comic
 Sans MS';"><b><span style="font-size:16pt;"><span>9h30
 </span></span></b><span style="font-size:16pt;"><span>–
 Echauffement</span></span></span></span></span></span></li>
 	<li
 style="text-align:justify;"><span
 style="font-size:12pt;"><span><span><span style="font-family:'Comic
 Sans MS';"><b><span style="font-size:16pt;"><span>10h00
 15h30</span></span></b><span style="font-size:16pt;"><span> - Debut
 de la competition</span></span></span></span></span></span></li>
 	<li
 style="text-align:justify;"><span
 style="font-size:12pt;"><span><span><span style="font-family:'Comic
 Sans MS';"><b><span style="font-size:16pt;"><span>15h30
 16h00</span></span></b><span style="font-size:16pt;"><span> –
 Resultats et
 recompenses</span></span></span></span></span></span></li>
 	<li
 style="text-align:justify;"><span
 style="font-size:12pt;"><span><span><span style="font-family:'Comic
 Sans MS';"><b><span style="font-size:16pt;"><span>16h45
 </span></span></b><span style="font-size:16pt;"><span>- Depart de St
 PIERRE</span></span></span></span></span></span></li>
 	<li
 style="text-align:justify;"><span style="font-size:12pt;"><span
 style="color:#ff0066;"><span><span><span style="font-family:'Comic
 Sans MS';"><b><span style="font-size:16pt;"><span>17h15 -
 ARRIVEE</span></span></b><span style="font-size:16pt;"><span> RDV
 rond-point du parking
 profs</span></span></span></span></span></span></span></li>
 </ul>
 
 <p
 style="text-align:justify;"> </p>
 
 <p
 style="text-align:justify;"><span
 style="font-size:12pt;"><span><span><span style="font-family:'Comic
 Sans MS';"><b><u><span style="font-size:20pt;"><span><span
 style="color:#000000;">PENSER A
 PRENDRE</span></span></span></u></b></span></span></span></span></p>
 
 <p
 style="text-align:justify;"> </p>
 
 <ul>
 	<li
 style="text-align:justify;"><span
 style="font-size:12pt;"><span><span><span style="font-family:'Comic
 Sans MS';"><b><span style="font-size:16pt;"><span><span
 style="color:#000000;">Pique-Nique +
 Gouter</span></span></span></b></span></span></span></span></li>
 	<li
 style="text-align:justify;"><span
 style="font-size:12pt;"><span><span><span style="font-family:'Comic
 Sans MS';"><b><span style="font-size:16pt;"><span><span
 style="color:#000000;">Ecocup ou
 gourde</span></span></span></b></span></span></span></span></li>
 	<li
 style="text-align:justify;"><span
 style="font-size:12pt;"><span><span><span style="font-family:'Comic
 Sans MS';"><b><span style="font-size:16pt;"><span><span
 style="color:#000000;">Tshirt de AS + sweat si vous avez
 !!</span></span></span></b></span></span></span></span></li>
 	<li
 style="text-align:justify;"><span
 style="font-size:12pt;"><span><span><span style="font-family:'Comic
 Sans MS';"><b><span style="font-size:16pt;"><span><span
 style="color:#000000;">Gym</span></span></span></b><span
 style="font-size:16pt;"><span><span style="color:#000000;"> :
 justaucorps + short noir + cheveux
 attaches</span></span></span></span></span></span></span></li>
 	<li
 style="text-align:justify;"><span
 style="font-size:12pt;"><span><span><span style="font-family:'Comic
 Sans MS';"><b><span style="font-size:16pt;"><span><span
 style="color:#000000;">Juges</span></span></span></b><span
 style="font-size:16pt;"><span><span style="color:#000000;"> : code +
 fiche agres + stylos + cahier
 brouillon</span></span></span></span></span></span></span></li>
 </ul>
 
 <p
 style="text-align:justify;"> </p>
 
 <p
 style="text-align:justify;"> </p>
URL;VALUE=URI:https://www.ascollegevarens.fr/evenements/2026/05/06/gymnastique-criterium-departemental-st-pierre-en-faucigny-2443802
END:VEVENT
END:VCALENDAR
